BEGIN:VCALENDAR
VERSION:2.0
PRODID:-//Università Aperta Vigontina - ECPv6.10.2//NONSGML v1.0//EN
CALSCALE:GREGORIAN
METHOD:PUBLISH
X-WR-CALNAME:Università Aperta Vigontina
X-ORIGINAL-URL:https://uniapertavigo.it
X-WR-CALDESC:Eventi per Università Aperta Vigontina
REFRESH-INTERVAL;VALUE=DURATION:PT1H
X-Robots-Tag:noindex
X-PUBLISHED-TTL:PT1H
BEGIN:VTIMEZONE
TZID:Europe/Paris
BEGIN:DAYLIGHT
TZOFFSETFROM:+0100
TZOFFSETTO:+0200
TZNAME:CEST
DTSTART:20260329T010000
END:DAYLIGHT
BEGIN:STANDARD
TZOFFSETFROM:+0200
TZOFFSETTO:+0100
TZNAME:CET
DTSTART:20261025T010000
END:STANDARD
END:VTIMEZONE
BEGIN:VEVENT
DTSTART;TZID=Europe/Paris:20260424T204500
DTEND;TZID=Europe/Paris:20260424T223000
DTSTAMP:20260424T165754
CREATED:20260415T204705Z
LAST-MODIFIED:20260415T204705Z
UID:9117-1777063500-1777069800@uniapertavigo.it
SUMMARY:Armenia - Il Genocidio armeno 1915 (24/04/2026)
DESCRIPTION:
URL:https://uniapertavigo.it/eventi/armenia-il-genocidio-armeno-1915-24-04-2026/
LOCATION:Palazzo Zacco degli Armeni\, c/o Circolo Unificato dell'Esercito Padova - Prato della Valle\, 82\, Padova\, PD\, 35100\, Italy
ATTACH;FMTTYPE=image/png:https://uniapertavigo.it/wp-content/uploads/2026/04/IlGenocidioArmeno.png
END:VEVENT
BEGIN:VEVENT
DTSTART;TZID=Europe/Paris:20260509T093000
DTEND;TZID=Europe/Paris:20260509T113000
DTSTAMP:20260424T165754
CREATED:20260416T152356Z
LAST-MODIFIED:20260420T143425Z
UID:9125-1778319000-1778326200@uniapertavigo.it
SUMMARY:Al DUdA (09/05/2026)
DESCRIPTION:DUdA (acronimo di DUca d’Arte\, Corridoi d’Arte Contemporanea) è un progetto culturale e artistico nato nel 2015 all’interno del Liceo delle Scienze Umane Amedeo di Savoia Duca d’Aosta in via del Santo 57\, a Padova. \nLa visita è gratuita\, ma è necessario prenotarsi  scrivendo a prospettivevigontine@gmail.com o su WA a Lorenzo 3276743076
URL:https://uniapertavigo.it/eventi/al-duda-09-05-2026/
LOCATION:Liceo Amedeo di Savoia Duca d’Aosta\, Via del Santo\, 57\, Padova\, PD\, 35100\, Italy
END:VEVENT
BEGIN:VEVENT
DTSTART;TZID=Europe/Paris:20260509T204500
DTEND;TZID=Europe/Paris:20260509T230000
DTSTAMP:20260424T165754
CREATED:20260415T205126Z
LAST-MODIFIED:20260415T205126Z
UID:9122-1778359500-1778367600@uniapertavigo.it
SUMMARY:Voci di Maggio  (09/05/2026)
DESCRIPTION:
URL:https://uniapertavigo.it/eventi/voci-di-maggio-09-05-2026/
LOCATION:Teatro Quirino de Giorgio di Vigonza\, Piazza Enrico Zanella\, 29\, Vigonza\, PD\, 35010\, Italy
ATTACH;FMTTYPE=image/jpeg:https://uniapertavigo.it/wp-content/uploads/2026/04/VociDiMaggio.jpeg
END:VEVENT
BEGIN:VEVENT
DTSTART;TZID=Europe/Paris:20260516T150000
DTEND;TZID=Europe/Paris:20260516T170000
DTSTAMP:20260424T165754
CREATED:20251007T182857Z
LAST-MODIFIED:20251220T173038Z
UID:6586-1778943600-1778950800@uniapertavigo.it
SUMMARY:Liber-a-mente - Discussione sul libro "Se una notte d'inverno un viaggiatore" (16/05/2026)
DESCRIPTION:Grazie a un gemellaggio con Gruppo di lettura della Biblioteca di Santa Maria di Sala\, il ritrovo è nella villa Farsetti alle ore 15:00
URL:https://uniapertavigo.it/eventi/liberamente-discussione-sul-libro-se-una-notte-dinverno-un-viaggiatore-16-05-2026/
LOCATION:Villa Farsetti\, Via Roma\, 1\, Santa Maria di Sala\, VE\, 30036\, Italy
ATTACH;FMTTYPE=image/png:https://uniapertavigo.it/wp-content/uploads/2025/10/LIberamente_20260516_Se-una-notte-dinverno-un-viaggiatore.png
END:VEVENT
BEGIN:VEVENT
DTSTART;TZID=Europe/Paris:20260524T093000
DTEND;TZID=Europe/Paris:20260524T093000
DTSTAMP:20260424T165754
CREATED:20260424T132916Z
LAST-MODIFIED:20260424T132950Z
UID:9411-1779615000-1779615000@uniapertavigo.it
SUMMARY:Passeggiate a Vigonza - Passeggiata Filosofica (24 maggio 2026)
DESCRIPTION:Potete iscrivervi cliccando il link   Modulo di iscrizione oppure inquadrando il qrcode \nCosto della passeggiata: \n\n    5€ senza degustazione finale\n  15€ con degustazione finale
URL:https://uniapertavigo.it/eventi/passeggiate-a-vigonza-passeggiata-filosofica-24-maggio-2026/
LOCATION:Vigonza\, Vigonza\, PD\, 35010\, Italy
ATTACH;FMTTYPE=image/jpeg:https://uniapertavigo.it/wp-content/uploads/2026/04/LOCANDINA-24-MAGGIO_SOCIAL_UNI-APERTA-VIGONTINA_apr26-scaled.jpg
END:VEVENT
END:VCALENDAR