BEGIN:VCALENDAR
VERSION:2.0
PRODID:-//Università Aperta Vigontina - ECPv6.10.2//NONSGML v1.0//EN
CALSCALE:GREGORIAN
METHOD:PUBLISH
X-ORIGINAL-URL:https://uniapertavigo.it
X-WR-CALDESC:Eventi per Università Aperta Vigontina
REFRESH-INTERVAL;VALUE=DURATION:PT1H
X-Robots-Tag:noindex
X-PUBLISHED-TTL:PT1H
BEGIN:VTIMEZONE
TZID:Europe/Paris
BEGIN:DAYLIGHT
TZOFFSETFROM:+0100
TZOFFSETTO:+0200
TZNAME:CEST
DTSTART:20250330T010000
END:DAYLIGHT
BEGIN:STANDARD
TZOFFSETFROM:+0200
TZOFFSETTO:+0100
TZNAME:CET
DTSTART:20251026T010000
END:STANDARD
END:VTIMEZONE
BEGIN:VEVENT
DTSTART;TZID=Europe/Paris:20251127T183000
DTEND;TZID=Europe/Paris:20251127T200000
DTSTAMP:20260425T015143
CREATED:20251007T090024Z
LAST-MODIFIED:20251119T141751Z
UID:6498-1764268200-1764273600@uniapertavigo.it
SUMMARY:Ambiente e territorio - Viaggio attraverso gli squilibri dell'ambiente e della società (27/11/2025)
DESCRIPTION:
URL:https://uniapertavigo.it/eventi/ambiente-e-territorio-viaggio-attraverso-gli-squilibri-dellambiente-e-della-societa-27-11-2025/
LOCATION:Centro parrocchiale San Sebastiano di Vigonza\, Via Roma\, 41\, Vigonza\, PD\, 35010\, Italy
ATTACH;FMTTYPE=image/png:https://uniapertavigo.it/wp-content/uploads/2025/10/TerritorioAmbiente_20251127_A4a_PaolaFavero_Patr.png
END:VEVENT
BEGIN:VEVENT
DTSTART;TZID=Europe/Paris:20251030T183000
DTEND;TZID=Europe/Paris:20251030T200000
DTSTAMP:20260425T015143
CREATED:20251007T085808Z
LAST-MODIFIED:20251018T114157Z
UID:6496-1761849000-1761854400@uniapertavigo.it
SUMMARY:Ambiente e territorio - La ricerca geologica (30/10/2025)
DESCRIPTION:
URL:https://uniapertavigo.it/eventi/ambiente-e-territorio-la-ricerca-geologica-30-10-2025/
LOCATION:Sala polivalente consiliare di Vigonza presso Castello dei da Peraga\, via Arrigoni\, 1\, Vigonza\, PD\, 35010\, Italy
ATTACH;FMTTYPE=image/png:https://uniapertavigo.it/wp-content/uploads/2025/10/TerritorioAmbiente_20251030_A4_SaraCallegaro_Patr.png
END:VEVENT
BEGIN:VEVENT
DTSTART;TZID=Europe/Paris:20251025T150000
DTEND;TZID=Europe/Paris:20251025T170000
DTSTAMP:20260425T015143
CREATED:20251007T085103Z
LAST-MODIFIED:20251010T105027Z
UID:6489-1761404400-1761411600@uniapertavigo.it
SUMMARY:Ambiente e territorio - Visita a Esapolis (25/10/2025)
DESCRIPTION:11€ è la quota d’ingresso al museo
URL:https://uniapertavigo.it/eventi/ambiente-e-territorio-visita-a-esapolis-25-10-2025/
LOCATION:Sede di Esapolis\, Via dei Colli\, 28\, Padova\, PD\, 35100\, Italy
ATTACH;FMTTYPE=image/png:https://uniapertavigo.it/wp-content/uploads/2025/10/TerritorioAmbiente_20251025_A4_VisitaEsapolis-1.png
END:VEVENT
BEGIN:VEVENT
DTSTART;TZID=Europe/Paris:20251009T183000
DTEND;TZID=Europe/Paris:20251009T200000
DTSTAMP:20260425T015143
CREATED:20250908T110311Z
LAST-MODIFIED:20251018T114250Z
UID:6228-1760034600-1760040000@uniapertavigo.it
SUMMARY:Ambiente e territorio - Clima e insetti (09/10/2025)
DESCRIPTION:
URL:https://uniapertavigo.it/eventi/ambiente-e-territorio-clima-e-insetti-09-10-2025/
LOCATION:Sala polivalente consiliare di Vigonza presso Castello dei da Peraga\, via Arrigoni\, 1\, Vigonza\, PD\, 35010\, Italy
ATTACH;FMTTYPE=image/png:https://uniapertavigo.it/wp-content/uploads/2025/09/TerritorioAmbiente_20251009_A4_EnzoMoretto_Patr.png
END:VEVENT
BEGIN:VEVENT
DTSTART;TZID=Europe/Paris:20250508T183000
DTEND;TZID=Europe/Paris:20250508T200000
DTSTAMP:20260425T015143
CREATED:20250312T110907Z
LAST-MODIFIED:20250327T113634Z
UID:5051-1746729000-1746734400@uniapertavigo.it
SUMMARY:Patrimonio vigontino - Il parco agrario del Brenta
DESCRIPTION:
URL:https://uniapertavigo.it/eventi/il-parco-agrario-del-brenta/
LOCATION:Villa Selvatico di Vigonza\, via Pietro Selvatico\, 1\, Vigonza\, PD\, 35010\, Italy
ATTACH;FMTTYPE=image/png:https://uniapertavigo.it/wp-content/uploads/2025/03/PatrimonioVigontino_Parco.png
END:VEVENT
BEGIN:VEVENT
DTSTART;TZID=Europe/Paris:20250325T204500
DTEND;TZID=Europe/Paris:20250325T230000
DTSTAMP:20260425T015143
CREATED:20250317T082057Z
LAST-MODIFIED:20250324T134747Z
UID:5073-1742935500-1742943600@uniapertavigo.it
SUMMARY:Alberi mutilati
DESCRIPTION:
URL:https://uniapertavigo.it/eventi/alberi-mutilati/
LOCATION:Sala polivalente consiliare di Vigonza presso Castello dei da Peraga\, via Arrigoni\, 1\, Vigonza\, PD\, 35010\, Italy
ATTACH;FMTTYPE=image/png:https://uniapertavigo.it/wp-content/uploads/2025/03/AlberiMutilati.png
END:VEVENT
END:VCALENDAR