BEGIN:VCALENDAR
VERSION:2.0
PRODID:-//Università Aperta Vigontina - ECPv6.10.2//NONSGML v1.0//EN
CALSCALE:GREGORIAN
METHOD:PUBLISH
X-ORIGINAL-URL:https://uniapertavigo.it
X-WR-CALDESC:Eventi per Università Aperta Vigontina
REFRESH-INTERVAL;VALUE=DURATION:PT1H
X-Robots-Tag:noindex
X-PUBLISHED-TTL:PT1H
BEGIN:VTIMEZONE
TZID:Europe/Paris
BEGIN:DAYLIGHT
TZOFFSETFROM:+0100
TZOFFSETTO:+0200
TZNAME:CEST
DTSTART:20250330T010000
END:DAYLIGHT
BEGIN:STANDARD
TZOFFSETFROM:+0200
TZOFFSETTO:+0100
TZNAME:CET
DTSTART:20251026T010000
END:STANDARD
END:VTIMEZONE
BEGIN:VEVENT
DTSTART;TZID=Europe/Paris:20250402T140000
DTEND;TZID=Europe/Paris:20250402T173000
DTSTAMP:20260425T204951
CREATED:20250318T084902Z
LAST-MODIFIED:20250318T090224Z
UID:5093-1743602400-1743615000@uniapertavigo.it
SUMMARY:Le ville venete - 2^ parte presso Villa Selvatico di Battaglia Terme (solo per gli iscritti)
DESCRIPTION:
URL:https://uniapertavigo.it/eventi/le-ville-venete-villa-selvatico-di-battaglia-terme/
LOCATION:Villa Selvatico di Battaglia Terme\, Viale Sant' Elena\, 36\, Battaglia Terme\, PD\, 35041\, Italy
ATTACH;FMTTYPE=image/png:https://uniapertavigo.it/wp-content/uploads/2025/03/ConferenzeOrdineArchitettiPD.png
END:VEVENT
BEGIN:VEVENT
DTSTART;TZID=Europe/Paris:20250415T140000
DTEND;TZID=Europe/Paris:20250415T173000
DTSTAMP:20260425T204951
CREATED:20250318T085303Z
LAST-MODIFIED:20250328T133704Z
UID:5099-1744725600-1744738200@uniapertavigo.it
SUMMARY:Rigenerare a partire dall'acqua - 1^ parte
DESCRIPTION:
URL:https://uniapertavigo.it/eventi/rigenerare-a-partire-dallacqua-1-parte/
LOCATION:Sala Zairo\, Piazza G. Salvemini\, 20\, Padova\, PD\, Italy
ATTACH;FMTTYPE=image/png:https://uniapertavigo.it/wp-content/uploads/2025/03/ConferenzeOrdineArchitettiPD.png
END:VEVENT
BEGIN:VEVENT
DTSTART;TZID=Europe/Paris:20250423T183000
DTEND;TZID=Europe/Paris:20250423T200000
DTSTAMP:20260425T204951
CREATED:20250312T122008Z
LAST-MODIFIED:20250327T113546Z
UID:5057-1745433000-1745438400@uniapertavigo.it
SUMMARY:Patrimonio vigontino - Albertino Barison\, studioso e archivista\, e la sua "domus" in Vigonza
DESCRIPTION:
URL:https://uniapertavigo.it/eventi/albertino-barison-studioso-e-archivista-e-la-sua-domus-in-vigonza/
LOCATION:Sala Capitolare del Chiostro della Parrocchia S.Margherita di Vigonza\, via Carpane\, 1\, Vigonza\, PD\, 35010\, Italy
ATTACH;FMTTYPE=image/png:https://uniapertavigo.it/wp-content/uploads/2025/03/PatrimonioVigontino_Barison.png
END:VEVENT
END:VCALENDAR