BEGIN:VCALENDAR
VERSION:2.0
PRODID:-//Università Aperta Vigontina - ECPv6.10.2//NONSGML v1.0//EN
CALSCALE:GREGORIAN
METHOD:PUBLISH
X-ORIGINAL-URL:https://uniapertavigo.it
X-WR-CALDESC:Eventi per Università Aperta Vigontina
REFRESH-INTERVAL;VALUE=DURATION:PT1H
X-Robots-Tag:noindex
X-PUBLISHED-TTL:PT1H
BEGIN:VTIMEZONE
TZID:Europe/Paris
BEGIN:DAYLIGHT
TZOFFSETFROM:+0100
TZOFFSETTO:+0200
TZNAME:CEST
DTSTART:20250330T010000
END:DAYLIGHT
BEGIN:STANDARD
TZOFFSETFROM:+0200
TZOFFSETTO:+0100
TZNAME:CET
DTSTART:20251026T010000
END:STANDARD
BEGIN:DAYLIGHT
TZOFFSETFROM:+0100
TZOFFSETTO:+0200
TZNAME:CEST
DTSTART:20260329T010000
END:DAYLIGHT
BEGIN:STANDARD
TZOFFSETFROM:+0200
TZOFFSETTO:+0100
TZNAME:CET
DTSTART:20261025T010000
END:STANDARD
END:VTIMEZONE
BEGIN:VEVENT
DTSTART;TZID=Europe/Paris:20260416T170000
DTEND;TZID=Europe/Paris:20260416T183000
DTSTAMP:20260425T020108
CREATED:20260318T133629Z
LAST-MODIFIED:20260318T133956Z
UID:8959-1776358800-1776364200@uniapertavigo.it
SUMMARY:Bibbia Istoriata Padovana e Battistero (16/03/2026)
DESCRIPTION:Due visite guidate di altissima valenza storico-artistica per giovedì 16 aprile alle ore 17:00. \nRelatore d’eccezione è il direttore del Museo Diocesano di Padova\, lo storico dell’arte Andrea Nante. \nDi seguito le indicazioni per partecipare.\n– Raggiungere con mezzi propri la piazza del Duomo di Padova.\n– Presentarsi alle 16:45  all’ingresso del Museo Diocesano di Padova.\n– Il biglietto costa 10€. \n– E’ necessario prenotarsi entro il 03/04/202
URL:https://uniapertavigo.it/eventi/bibbia-istoriata-padovana-e-battistero-16-03-2026/
LOCATION:Museo Diocesano di Padova\, Piazza Duomo\, 12\, Padova\, PD\, 35139\, Italy
ATTACH;FMTTYPE=image/png:https://uniapertavigo.it/wp-content/uploads/2026/03/2026_04_16_BibbiaBattistero_A4.png
END:VEVENT
BEGIN:VEVENT
DTSTART;TZID=Europe/Paris:20250327T180000
DTEND;TZID=Europe/Paris:20250327T200000
DTSTAMP:20260425T020108
CREATED:20250312T103018Z
LAST-MODIFIED:20250327T113508Z
UID:5048-1743098400-1743105600@uniapertavigo.it
SUMMARY:Patrimonio vigontino - Museo diffuso del Brenta
DESCRIPTION:
URL:https://uniapertavigo.it/eventi/museo-diffuso-del-brenta/
LOCATION:Villa Selvatico di Vigonza\, via Pietro Selvatico\, 1\, Vigonza\, PD\, 35010\, Italy
ATTACH;FMTTYPE=image/png:https://uniapertavigo.it/wp-content/uploads/2025/03/PatrimonioVigontino_Museo.png
END:VEVENT
END:VCALENDAR