BEGIN:VCALENDAR
VERSION:2.0
PRODID:-//Università Aperta Vigontina - ECPv6.10.2//NONSGML v1.0//EN
CALSCALE:GREGORIAN
METHOD:PUBLISH
X-ORIGINAL-URL:https://uniapertavigo.it
X-WR-CALDESC:Eventi per Università Aperta Vigontina
REFRESH-INTERVAL;VALUE=DURATION:PT1H
X-Robots-Tag:noindex
X-PUBLISHED-TTL:PT1H
BEGIN:VTIMEZONE
TZID:Europe/Paris
BEGIN:DAYLIGHT
TZOFFSETFROM:+0100
TZOFFSETTO:+0200
TZNAME:CEST
DTSTART:20250330T010000
END:DAYLIGHT
BEGIN:STANDARD
TZOFFSETFROM:+0200
TZOFFSETTO:+0100
TZNAME:CET
DTSTART:20251026T010000
END:STANDARD
END:VTIMEZONE
BEGIN:VEVENT
DTSTART;TZID=Europe/Paris:20251220T204500
DTEND;TZID=Europe/Paris:20251220T230000
DTSTAMP:20260425T015157
CREATED:20251218T201332Z
LAST-MODIFIED:20251218T201419Z
UID:7898-1766263500-1766271600@uniapertavigo.it
SUMMARY:Concerto di Natale  (20/12/2025)
DESCRIPTION:
URL:https://uniapertavigo.it/eventi/concerto-di-natale-20-12-2025/
LOCATION:Teatro Quirino de Giorgio di Vigonza\, Piazza Enrico Zanella\, 29\, Vigonza\, PD\, 35010\, Italy
ATTACH;FMTTYPE=image/jpeg:https://uniapertavigo.it/wp-content/uploads/2025/12/Concerto-di-natale.jpeg
END:VEVENT
BEGIN:VEVENT
DTSTART;TZID=Europe/Paris:20251220T203000
DTEND;TZID=Europe/Paris:20251220T223000
DTSTAMP:20260425T015157
CREATED:20251212T163755Z
LAST-MODIFIED:20251212T163851Z
UID:7842-1766262600-1766269800@uniapertavigo.it
SUMMARY:Concerto - Natale con l'Africa (20/12/2025)
DESCRIPTION:Il repertorio musicale prevede brani classici\, colonne sonore nonché pop\, Michael Jackson…
URL:https://uniapertavigo.it/eventi/concerto-natale-con-lafrica-20-12-2025/
LOCATION:TEM – Teatro Excelsior Mortise\, via Madonna della Salute\, 7\, Padova\, PD\, 35100\, Italy
ATTACH;FMTTYPE=image/jpeg:https://uniapertavigo.it/wp-content/uploads/2025/12/NataleConLAfrica.jpg
END:VEVENT
BEGIN:VEVENT
DTSTART;TZID=Europe/Paris:20251122T204500
DTEND;TZID=Europe/Paris:20251122T230000
DTSTAMP:20260425T015157
CREATED:20251116T143642Z
LAST-MODIFIED:20251116T143936Z
UID:7673-1763844300-1763852400@uniapertavigo.it
SUMMARY:Concerto di Musica Sacra - In onore a Santa Cecilia (22/11/2025)
DESCRIPTION:
URL:https://uniapertavigo.it/eventi/concerto-di-musica-sacra-in-onore-a-santa-cecilia-22-11-2025/
LOCATION:Chiesa parrocchiale di Pionca\, Via Antonio Meucci\, 20\, Vigonza\, PD\, 35010\, Italy
ATTACH;FMTTYPE=image/jpeg:https://uniapertavigo.it/wp-content/uploads/2025/11/ConcertoMusicaSacra_OnoreSantaCecilia.jpg
END:VEVENT
BEGIN:VEVENT
DTSTART;TZID=Europe/Paris:20251026T180000
DTEND;TZID=Europe/Paris:20251026T200000
DTSTAMP:20260425T015157
CREATED:20251020T110932Z
LAST-MODIFIED:20251116T143728Z
UID:6713-1761501600-1761508800@uniapertavigo.it
SUMMARY:Concerto di Musica Sacra - Omaggio a Maria (26/10/2025)
DESCRIPTION:
URL:https://uniapertavigo.it/eventi/concerto-di-musica-sacra-26-10-2025/
LOCATION:Antica Pieve di San Prosdocimo\, Via Chiesa\, 1\, Villanova di Camposampiero\, PD\, 35010\, Italy
ATTACH;FMTTYPE=image/png:https://uniapertavigo.it/wp-content/uploads/2025/10/ConcertoDiMusicaSacra.png
END:VEVENT
BEGIN:VEVENT
DTSTART;TZID=Europe/Paris:20251004T210000
DTEND;TZID=Europe/Paris:20251004T230000
DTSTAMP:20260425T015157
CREATED:20251003T144041Z
LAST-MODIFIED:20251003T144041Z
UID:6323-1759611600-1759618800@uniapertavigo.it
SUMMARY:Concerto d'autunno - 2^ edizione (04/10/2025)
DESCRIPTION:INGRESSO GRATUITO MA PRENOTAZIONE OBBLIGATORIA (con offerta responsabile) alla mail PRENOTAZIONI@PROLOCOVIGONZA.IT
URL:https://uniapertavigo.it/eventi/concerto-dautunno-2-edizione-04-10-2025/
LOCATION:Teatro Quirino de Giorgio di Vigonza\, Piazza Enrico Zanella\, 29\, Vigonza\, PD\, 35010\, Italy
ATTACH;FMTTYPE=image/jpeg:https://uniapertavigo.it/wp-content/uploads/2025/10/ConcertoDAutunno2025.jpg
END:VEVENT
END:VCALENDAR