BEGIN:VCALENDAR
VERSION:2.0
PRODID:-//Università Aperta Vigontina - ECPv6.10.2//NONSGML v1.0//EN
CALSCALE:GREGORIAN
METHOD:PUBLISH
X-ORIGINAL-URL:https://uniapertavigo.it
X-WR-CALDESC:Eventi per Università Aperta Vigontina
REFRESH-INTERVAL;VALUE=DURATION:PT1H
X-Robots-Tag:noindex
X-PUBLISHED-TTL:PT1H
BEGIN:VTIMEZONE
TZID:Europe/Paris
BEGIN:DAYLIGHT
TZOFFSETFROM:+0100
TZOFFSETTO:+0200
TZNAME:CEST
DTSTART:20250330T010000
END:DAYLIGHT
BEGIN:STANDARD
TZOFFSETFROM:+0200
TZOFFSETTO:+0100
TZNAME:CET
DTSTART:20251026T010000
END:STANDARD
END:VTIMEZONE
BEGIN:VEVENT
DTSTART;TZID=Europe/Paris:20250728T204500
DTEND;TZID=Europe/Paris:20250728T223000
DTSTAMP:20260425T052627
CREATED:20250722T183643Z
LAST-MODIFIED:20250722T184132Z
UID:6011-1753735500-1753741800@uniapertavigo.it
SUMMARY:Consumo energetico: per un risparmio sostenibile e responsabile (28/07/2025)
DESCRIPTION:
URL:https://uniapertavigo.it/eventi/consumo-energetico-per-un-risparmio-sostenibile-e-responsabile-28-07-2025/
LOCATION:Palasport di Perarolo\, Via Atene\, 9\, Perarolo di Vigonza\, PD\, 35010\, Italy
ATTACH;FMTTYPE=image/jpeg:https://uniapertavigo.it/wp-content/uploads/2025/07/ConsumoEnergetico.jpg
END:VEVENT
END:VCALENDAR