BEGIN:VCALENDAR
VERSION:2.0
PRODID:-//Università Aperta Vigontina - ECPv6.10.2//NONSGML v1.0//EN
CALSCALE:GREGORIAN
METHOD:PUBLISH
X-WR-CALNAME:Università Aperta Vigontina
X-ORIGINAL-URL:https://uniapertavigo.it
X-WR-CALDESC:Eventi per Università Aperta Vigontina
REFRESH-INTERVAL;VALUE=DURATION:PT1H
X-Robots-Tag:noindex
X-PUBLISHED-TTL:PT1H
BEGIN:VTIMEZONE
TZID:Europe/Paris
BEGIN:DAYLIGHT
TZOFFSETFROM:+0100
TZOFFSETTO:+0200
TZNAME:CEST
DTSTART:20250330T010000
END:DAYLIGHT
BEGIN:STANDARD
TZOFFSETFROM:+0200
TZOFFSETTO:+0100
TZNAME:CET
DTSTART:20251026T010000
END:STANDARD
END:VTIMEZONE
BEGIN:VEVENT
DTSTART;TZID=Europe/Paris:20250522T204500
DTEND;TZID=Europe/Paris:20250522T230000
DTSTAMP:20260425T175620
CREATED:20250512T134553Z
LAST-MODIFIED:20250514T125253Z
UID:5512-1747946700-1747954800@uniapertavigo.it
SUMMARY:Rassegna letteraria InChiostro - Autore Malagutti Paolo
DESCRIPTION:
URL:https://uniapertavigo.it/eventi/rassegna-letteraria-autore-malagutti-paolo/
LOCATION:Sala Capitolare del Chiostro della Parrocchia S.Margherita di Vigonza\, via Carpane\, 1\, Vigonza\, PD\, 35010\, Italy
ATTACH;FMTTYPE=image/png:https://uniapertavigo.it/wp-content/uploads/2025/05/RassegnaLetterariaInChiostro_2025_05_22_Malaguti.png
END:VEVENT
BEGIN:VEVENT
DTSTART;TZID=Europe/Paris:20250525T180000
DTEND;TZID=Europe/Paris:20250525T200000
DTSTAMP:20260425T175620
CREATED:20250512T203536Z
LAST-MODIFIED:20250513T153702Z
UID:5516-1748196000-1748203200@uniapertavigo.it
SUMMARY:Aperitivo Con l'autore - Autore Antonella Petrera & Donato Simone Frigotto
DESCRIPTION:
URL:https://uniapertavigo.it/eventi/aperitivo-con-lautore-autore-antonella-petrera-donato-simone-frigotto/
LOCATION:Chiostro della Parrocchia S.Margherita di Vigonza\, via Carpane\, 1\, Vigonza\, PD\, 35010\, Italy
ATTACH;FMTTYPE=image/jpeg:https://uniapertavigo.it/wp-content/uploads/2025/05/AperitivoConAutore.jpg
END:VEVENT
BEGIN:VEVENT
DTSTART;TZID=Europe/Paris:20250529T204500
DTEND;TZID=Europe/Paris:20250529T230000
DTSTAMP:20260425T175620
CREATED:20250512T114549Z
LAST-MODIFIED:20250514T162635Z
UID:5589-1748551500-1748559600@uniapertavigo.it
SUMMARY:Rassegna letteraria InChiostro - Autore Mara Carollo
DESCRIPTION:
URL:https://uniapertavigo.it/eventi/rassegna-letteraria-autore-mara-carollo/
LOCATION:Sala Capitolare del Chiostro della Parrocchia S.Margherita di Vigonza\, via Carpane\, 1\, Vigonza\, PD\, 35010\, Italy
ATTACH;FMTTYPE=image/png:https://uniapertavigo.it/wp-content/uploads/2025/05/RassegnaLetterariaInChiostro_2025_05_29_Carollo.png
END:VEVENT
BEGIN:VEVENT
DTSTART;TZID=Europe/Paris:20250531T170000
DTEND;TZID=Europe/Paris:20250531T190000
DTSTAMP:20260425T175620
CREATED:20250513T153521Z
LAST-MODIFIED:20250907T071812Z
UID:5521-1748710800-1748718000@uniapertavigo.it
SUMMARY:Incontro con l'autore Mauro Varotto - Il primo Libro di Geografia (31/05/2025)
DESCRIPTION:
URL:https://uniapertavigo.it/eventi/in-contro-con-lautore-mauro-varotto-il-primo-libro-di-geografia-31-0-52025/
LOCATION:Villa Selvatico di Vigonza\, via Pietro Selvatico\, 1\, Vigonza\, PD\, 35010\, Italy
ATTACH;FMTTYPE=image/jpeg:https://uniapertavigo.it/wp-content/uploads/2025/05/MauroVarotto_LibroGeografia.jpg
END:VEVENT
END:VCALENDAR