BEGIN:VCALENDAR
VERSION:2.0
PRODID:-//Università Aperta Vigontina - ECPv6.10.2//NONSGML v1.0//EN
CALSCALE:GREGORIAN
METHOD:PUBLISH
X-ORIGINAL-URL:https://uniapertavigo.it
X-WR-CALDESC:Eventi per Università Aperta Vigontina
REFRESH-INTERVAL;VALUE=DURATION:PT1H
X-Robots-Tag:noindex
X-PUBLISHED-TTL:PT1H
BEGIN:VTIMEZONE
TZID:Europe/Paris
BEGIN:DAYLIGHT
TZOFFSETFROM:+0100
TZOFFSETTO:+0200
TZNAME:CEST
DTSTART:20250330T010000
END:DAYLIGHT
BEGIN:STANDARD
TZOFFSETFROM:+0200
TZOFFSETTO:+0100
TZNAME:CET
DTSTART:20251026T010000
END:STANDARD
END:VTIMEZONE
BEGIN:VEVENT
DTSTART;TZID=Europe/Paris:20250719T181500
DTEND;TZID=Europe/Paris:20250719T220000
DTSTAMP:20260425T142126
CREATED:20250708T073554Z
LAST-MODIFIED:20250708T073914Z
UID:5922-1752948900-1752962400@uniapertavigo.it
SUMMARY:Incontro tra poeti (19/07/2025)
DESCRIPTION:
URL:https://uniapertavigo.it/eventi/incontro-tra-poeti-19-07-2025/
LOCATION:Angolo del pensiero\, Via Campolino\, 48\, Vigonza\, PD\, 35010\, Italy
ATTACH;FMTTYPE=image/png:https://uniapertavigo.it/wp-content/uploads/2025/07/IncontroTraPoeti.png
END:VEVENT
END:VCALENDAR