BEGIN:VCALENDAR
VERSION:2.0
PRODID:-//Università Aperta Vigontina - ECPv6.10.2//NONSGML v1.0//EN
CALSCALE:GREGORIAN
METHOD:PUBLISH
X-WR-CALNAME:Università Aperta Vigontina
X-ORIGINAL-URL:https://uniapertavigo.it
X-WR-CALDESC:Eventi per Università Aperta Vigontina
REFRESH-INTERVAL;VALUE=DURATION:PT1H
X-Robots-Tag:noindex
X-PUBLISHED-TTL:PT1H
BEGIN:VTIMEZONE
TZID:Europe/Paris
BEGIN:DAYLIGHT
TZOFFSETFROM:+0100
TZOFFSETTO:+0200
TZNAME:CEST
DTSTART:20250330T010000
END:DAYLIGHT
BEGIN:STANDARD
TZOFFSETFROM:+0200
TZOFFSETTO:+0100
TZNAME:CET
DTSTART:20251026T010000
END:STANDARD
END:VTIMEZONE
BEGIN:VEVENT
DTSTART;TZID=Europe/Paris:20251217T183000
DTEND;TZID=Europe/Paris:20251217T203000
DTSTAMP:20260425T052427
CREATED:20251206T135239Z
LAST-MODIFIED:20251206T143754Z
UID:7825-1765996200-1766003400@uniapertavigo.it
SUMMARY:Incontro con l'autrice Saveria Chemotti e festa natalizia di Liber-a-mente (17/12/2025)
DESCRIPTION:Al termine della presentazione del libro “Spegni questo Buio” da parte dell’autrice Saveria Chemotti\, un momento di convivialità e lo scambio degli auguri. \nDurante la serata sarà possibile donare un’offerta a favore della Caritas di Vigonza
URL:https://uniapertavigo.it/eventi/incontro-con-lautrice-saveria-chemotti-e-festa-natalizia-di-liber-a-mente-17-12-2025/
LOCATION:Centro parrocchiale San Sebastiano di Vigonza\, Via Roma\, 41\, Vigonza\, PD\, 35010\, Italy
ATTACH;FMTTYPE=image/png:https://uniapertavigo.it/wp-content/uploads/2025/12/2025_12_17_SaveriaChemotti_A4_SpegniQuestoBuio.png
END:VEVENT
BEGIN:VEVENT
DTSTART;TZID=Europe/Paris:20251218T093000
DTEND;TZID=Europe/Paris:20251218T110000
DTSTAMP:20260425T052427
CREATED:20251007T182246Z
LAST-MODIFIED:20251018T114005Z
UID:6574-1766050200-1766055600@uniapertavigo.it
SUMMARY:Liber-a-mente - Discussione sul libro "Un indovino mi disse" (18/12/2025)
DESCRIPTION:
URL:https://uniapertavigo.it/eventi/liberamente-discussione-sul-libro-un-indovino-mi-disse-18-12-2025/
LOCATION:Sede dell’Università Aperta Vigontina\, Via Santa Margherita\, 2\, Vigonza\, PD\, 35010\, Italy
ATTACH;FMTTYPE=image/png:https://uniapertavigo.it/wp-content/uploads/2025/10/LIberamente_20251218_Un-indovino-mi-disse.png
END:VEVENT
END:VCALENDAR