BEGIN:VCALENDAR
VERSION:2.0
PRODID:-//Università Aperta Vigontina - ECPv6.10.2//NONSGML v1.0//EN
CALSCALE:GREGORIAN
METHOD:PUBLISH
X-WR-CALNAME:Università Aperta Vigontina
X-ORIGINAL-URL:https://uniapertavigo.it
X-WR-CALDESC:Eventi per Università Aperta Vigontina
REFRESH-INTERVAL;VALUE=DURATION:PT1H
X-Robots-Tag:noindex
X-PUBLISHED-TTL:PT1H
BEGIN:VTIMEZONE
TZID:Europe/Paris
BEGIN:DAYLIGHT
TZOFFSETFROM:+0100
TZOFFSETTO:+0200
TZNAME:CEST
DTSTART:20250330T010000
END:DAYLIGHT
BEGIN:STANDARD
TZOFFSETFROM:+0200
TZOFFSETTO:+0100
TZNAME:CET
DTSTART:20251026T010000
END:STANDARD
BEGIN:DAYLIGHT
TZOFFSETFROM:+0100
TZOFFSETTO:+0200
TZNAME:CEST
DTSTART:20260329T010000
END:DAYLIGHT
BEGIN:STANDARD
TZOFFSETFROM:+0200
TZOFFSETTO:+0100
TZNAME:CET
DTSTART:20261025T010000
END:STANDARD
END:VTIMEZONE
BEGIN:VEVENT
DTSTART;TZID=Europe/Paris:20260115T183000
DTEND;TZID=Europe/Paris:20260115T203000
DTSTAMP:20260425T020105
CREATED:20260113T154500Z
LAST-MODIFIED:20260127T144937Z
UID:8142-1768501800-1768509000@uniapertavigo.it
SUMMARY:Il trauma e la speranza (15/01/2026)
DESCRIPTION:L’elaborazione del lutto oggi e nell’antichità
URL:https://uniapertavigo.it/eventi/il-trauma-e-la-speranza-15-01-2026/
LOCATION:Chiostro della Parrocchia S.Margherita di Vigonza\, via Carpane\, 1\, Vigonza\, PD\, 35010\, Italy
ATTACH;FMTTYPE=image/png:https://uniapertavigo.it/wp-content/uploads/2026/01/Il-trauma-e-la-speranza.png
END:VEVENT
BEGIN:VEVENT
DTSTART;TZID=Europe/Paris:20251204T183000
DTEND;TZID=Europe/Paris:20251204T203000
DTSTAMP:20260425T020105
CREATED:20251130T093123Z
LAST-MODIFIED:20251130T093459Z
UID:7750-1764873000-1764880200@uniapertavigo.it
SUMMARY:Le dipendenze patologiche - Malattie del desiderio - ed. 2 (04/12/2025)
DESCRIPTION:In questo secondo incontro sulle Malattie Patologiche promosso dal Lions Club Vigonza 7 Campanili\, L’Università Aperta Vigontina consegnerà la somma raccolta in beneficenza a seguito dello spettacolo “Lorenzo Da Ponte – La genialità di un libero pensatore” del 25 ottobre scorso.
URL:https://uniapertavigo.it/eventi/le-dipendenze-patologiche-malattie-del-desiderio-04-12-2025/
LOCATION:Chiostro della Parrocchia S.Margherita di Vigonza\, via Carpane\, 1\, Vigonza\, PD\, 35010\, Italy
ATTACH;FMTTYPE=image/png:https://uniapertavigo.it/wp-content/uploads/2025/11/MalattieDelDesiderio_Ed.2.png
END:VEVENT
BEGIN:VEVENT
DTSTART;TZID=Europe/Paris:20251016T183000
DTEND;TZID=Europe/Paris:20251016T203000
DTSTAMP:20260425T020105
CREATED:20251003T144816Z
LAST-MODIFIED:20251130T093422Z
UID:6327-1760639400-1760646600@uniapertavigo.it
SUMMARY:Le dipendenze patologiche - Malattie del desiderio - ed.1 (16/10/2025)
DESCRIPTION:
URL:https://uniapertavigo.it/eventi/le-dipendenze-patologiche-malattie-del-desiderio-16-10-2025/
LOCATION:Chiostro della Parrocchia S.Margherita di Vigonza\, via Carpane\, 1\, Vigonza\, PD\, 35010\, Italy
ATTACH;FMTTYPE=image/png:https://uniapertavigo.it/wp-content/uploads/2025/10/DipendenzePatologiche.png
END:VEVENT
END:VCALENDAR