BEGIN:VCALENDAR
VERSION:2.0
PRODID:-//Università Aperta Vigontina - ECPv6.10.2//NONSGML v1.0//EN
CALSCALE:GREGORIAN
METHOD:PUBLISH
X-ORIGINAL-URL:https://uniapertavigo.it
X-WR-CALDESC:Eventi per Università Aperta Vigontina
REFRESH-INTERVAL;VALUE=DURATION:PT1H
X-Robots-Tag:noindex
X-PUBLISHED-TTL:PT1H
BEGIN:VTIMEZONE
TZID:Europe/Paris
BEGIN:DAYLIGHT
TZOFFSETFROM:+0100
TZOFFSETTO:+0200
TZNAME:CEST
DTSTART:20260329T010000
END:DAYLIGHT
BEGIN:STANDARD
TZOFFSETFROM:+0200
TZOFFSETTO:+0100
TZNAME:CET
DTSTART:20261025T010000
END:STANDARD
END:VTIMEZONE
BEGIN:VEVENT
DTSTART;TZID=Europe/Paris:20260207T103000
DTEND;TZID=Europe/Paris:20260207T110000
DTSTAMP:20260425T001502
CREATED:20260127T145759Z
LAST-MODIFIED:20260127T145759Z
UID:8377-1770460200-1770462000@uniapertavigo.it
SUMMARY:Torre degli Anziani - Visita 2° gruppo (07/02/2026)
DESCRIPTION:Obbligo di prenotazione. \nCosto della partecipazione 5 € a persona. \nSi arriva con mezzi propri.
URL:https://uniapertavigo.it/eventi/torre-degli-anziani-visita-2-gruppo-07-02-2026/
LOCATION:Sala polivalente consiliare di Vigonza presso Castello dei da Peraga\, via Arrigoni\, 1\, Vigonza\, PD\, 35010\, Italy
ATTACH;FMTTYPE=image/png:https://uniapertavigo.it/wp-content/uploads/2026/01/TorreAnziani_2026_01_A4Completo.png
END:VEVENT
BEGIN:VEVENT
DTSTART;TZID=Europe/Paris:20260207T093000
DTEND;TZID=Europe/Paris:20260207T100000
DTSTAMP:20260425T001502
CREATED:20260127T145836Z
LAST-MODIFIED:20260127T145844Z
UID:8379-1770456600-1770458400@uniapertavigo.it
SUMMARY:Torre degli Anziani - Visita 3° gruppo (07/02/2026)
DESCRIPTION:Obbligo di prenotazione. \nCosto della partecipazione 5 € a persona. \nSi arriva con mezzi propri.
URL:https://uniapertavigo.it/eventi/torre-degli-anziani-visita-3-gruppo-07-02-2026/
LOCATION:Sala polivalente consiliare di Vigonza presso Castello dei da Peraga\, via Arrigoni\, 1\, Vigonza\, PD\, 35010\, Italy
ATTACH;FMTTYPE=image/png:https://uniapertavigo.it/wp-content/uploads/2026/01/TorreAnziani_2026_01_A4Completo.png
END:VEVENT
BEGIN:VEVENT
DTSTART;TZID=Europe/Paris:20260131T103000
DTEND;TZID=Europe/Paris:20260131T110000
DTSTAMP:20260425T001502
CREATED:20260127T145622Z
LAST-MODIFIED:20260127T145701Z
UID:8373-1769855400-1769857200@uniapertavigo.it
SUMMARY:Torre degli Anziani - Visita 1° gruppo (31/01/2026)
DESCRIPTION:Obbligo di prenotazione. \nCosto della partecipazione 5 € a persona. \nSi arriva con mezzi propri.
URL:https://uniapertavigo.it/eventi/torre-degli-anziani-visita-1-gruppo-31-01-2026/
LOCATION:Sala polivalente consiliare di Vigonza presso Castello dei da Peraga\, via Arrigoni\, 1\, Vigonza\, PD\, 35010\, Italy
ATTACH;FMTTYPE=image/png:https://uniapertavigo.it/wp-content/uploads/2026/01/TorreAnziani_2026_01_A4Completo.png
END:VEVENT
BEGIN:VEVENT
DTSTART;TZID=Europe/Paris:20260126T183000
DTEND;TZID=Europe/Paris:20260126T200000
DTSTAMP:20260425T001502
CREATED:20260127T145309Z
LAST-MODIFIED:20260127T145401Z
UID:8370-1769452200-1769457600@uniapertavigo.it
SUMMARY:Torre degli Anziani - Incontro Propedeutico (26/01/2026)
DESCRIPTION:
URL:https://uniapertavigo.it/eventi/torre-degli-anziani-incontro-propedeutico-26-01-2026/
LOCATION:Sala polivalente consiliare di Vigonza presso Castello dei da Peraga\, via Arrigoni\, 1\, Vigonza\, PD\, 35010\, Italy
ATTACH;FMTTYPE=image/png:https://uniapertavigo.it/wp-content/uploads/2026/01/TorreAnziani_2026_01_A4Completo.png
END:VEVENT
END:VCALENDAR