BEGIN:VCALENDAR
VERSION:2.0
PRODID:-//Università Aperta Vigontina - ECPv6.10.2//NONSGML v1.0//EN
CALSCALE:GREGORIAN
METHOD:PUBLISH
X-ORIGINAL-URL:https://uniapertavigo.it
X-WR-CALDESC:Eventi per Università Aperta Vigontina
REFRESH-INTERVAL;VALUE=DURATION:PT1H
X-Robots-Tag:noindex
X-PUBLISHED-TTL:PT1H
BEGIN:VTIMEZONE
TZID:Europe/Paris
BEGIN:DAYLIGHT
TZOFFSETFROM:+0100
TZOFFSETTO:+0200
TZNAME:CEST
DTSTART:20250330T010000
END:DAYLIGHT
BEGIN:STANDARD
TZOFFSETFROM:+0200
TZOFFSETTO:+0100
TZNAME:CET
DTSTART:20251026T010000
END:STANDARD
END:VTIMEZONE
BEGIN:VEVENT
DTSTART;TZID=Europe/Paris:20250406T163000
DTEND;TZID=Europe/Paris:20250406T180000
DTSTAMP:20260425T204742
CREATED:20250318T091217Z
LAST-MODIFIED:20250327T114032Z
UID:5111-1743957000-1743962400@uniapertavigo.it
SUMMARY:Il pifferaio magico
DESCRIPTION:
URL:https://uniapertavigo.it/eventi/il-pifferaio-magico/
LOCATION:Teatro Quirino de Giorgio di Vigonza\, Piazza Enrico Zanella\, 29\, Vigonza\, PD\, 35010\, Italy
ATTACH;FMTTYPE=image/png:https://uniapertavigo.it/wp-content/uploads/2025/03/PifferaioMagico.png
END:VEVENT
BEGIN:VEVENT
DTSTART;TZID=Europe/Paris:20250412T210000
DTEND;TZID=Europe/Paris:20250412T233000
DTSTAMP:20260425T204742
CREATED:20250408T133757Z
LAST-MODIFIED:20250408T133757Z
UID:5311-1744491600-1744500600@uniapertavigo.it
SUMMARY:Reniero da Chioggia vegnuo de campo in bragosso
DESCRIPTION:Biglietti: \n9 € intero \n7 € ridotto over 65 \, studenti under 19 soci AVIS \,iscritti AIDO\, iscritti alle associazioni del territorio . \nGratuito persone con disabilità e bambini fino ai 10 anni. \nInfo e prenotazioni: ☎353 4345526\n📧teatrotergola2008@libero.it
URL:https://uniapertavigo.it/eventi/reniero-da-chioggia-vegnuo-de-campo-in-bragosso/
LOCATION:Teatro Quirino de Giorgio di Vigonza\, Piazza Enrico Zanella\, 29\, Vigonza\, PD\, 35010\, Italy
ATTACH;FMTTYPE=image/png:https://uniapertavigo.it/wp-content/uploads/2025/04/RenieroDaChioggia.png
END:VEVENT
END:VCALENDAR