BEGIN:VCALENDAR
VERSION:2.0
PRODID:-//Università Aperta Vigontina - ECPv6.10.2//NONSGML v1.0//EN
CALSCALE:GREGORIAN
METHOD:PUBLISH
X-ORIGINAL-URL:https://uniapertavigo.it
X-WR-CALDESC:Eventi per Università Aperta Vigontina
REFRESH-INTERVAL;VALUE=DURATION:PT1H
X-Robots-Tag:noindex
X-PUBLISHED-TTL:PT1H
BEGIN:VTIMEZONE
TZID:Europe/Paris
BEGIN:DAYLIGHT
TZOFFSETFROM:+0100
TZOFFSETTO:+0200
TZNAME:CEST
DTSTART:20260329T010000
END:DAYLIGHT
BEGIN:STANDARD
TZOFFSETFROM:+0200
TZOFFSETTO:+0100
TZNAME:CET
DTSTART:20261025T010000
END:STANDARD
END:VTIMEZONE
BEGIN:VEVENT
DTSTART;TZID=Europe/Paris:20260207T204500
DTEND;TZID=Europe/Paris:20260207T230000
DTSTAMP:20260425T033051
CREATED:20260202T202414Z
LAST-MODIFIED:20260202T202414Z
UID:8395-1770497100-1770505200@uniapertavigo.it
SUMMARY:All'ombra del frassino... tutti se la spassino! (07/02/2026)
DESCRIPTION:Sior Todero vi aspetta sabato in teatro per augurarvi buone vacanze natalizie. \nBiglietti: \n\n9 € intero\n7 € ridotto over 65 \, studenti under 19 soci AVIS \,iscritti AIDO\, iscritti alle associazioni del territorio \nGratuito persone con disabilità e bambini fino ai 10 anni.\n\nInfo e prenotazioni: ☎353 4345526  – teatrotergola2008@libero.it
URL:https://uniapertavigo.it/eventi/allombra-del-frassino-tutti-se-la-spassino-07-02-2026/
LOCATION:Teatro Quirino de Giorgio di Vigonza\, Piazza Enrico Zanella\, 29\, Vigonza\, PD\, 35010\, Italy
ATTACH;FMTTYPE=image/jpeg:https://uniapertavigo.it/wp-content/uploads/2026/02/AllOmbraDelFrassino.jpeg
END:VEVENT
BEGIN:VEVENT
DTSTART;TZID=Europe/Paris:20260221T204500
DTEND;TZID=Europe/Paris:20260221T230000
DTSTAMP:20260425T033051
CREATED:20260218T204404Z
LAST-MODIFIED:20260218T204404Z
UID:8668-1771706700-1771714800@uniapertavigo.it
SUMMARY:Assassinio sull'Oriente Spritz (21/02/2026)
DESCRIPTION:Una brillante commedia gialla in chiave comica… e rigorosamente veneta!\n✍️ Di Antonio Mosele\n🎬 Regia di Antonio Mosele\n🎭 Con la Compagnia La Zonta Aps \nUn omaggio irriverente al grande classico del mistero di Agatha Christie\, rivisitato tra ironia\, dialetto e colpi di scena.\nIl regionale Schio–Vicenza si ferma improvvisamente nelle “lande desolate”… 😱\nNel vagone viene ritrovato il corpo senza vita di un noto imprenditore vicentino.\nI passeggeri sono spaesati… ma presto emerge un dettaglio inquietante:\nognuno di loro aveva un buon motivo per volerlo morto.\n🕵️‍♂️ Chi è il colpevole?\nTra sospetti\, equivoci e uno spritz di troppo\, solo il sedicente “più grande investigatore al mondo” potrà risolvere l’enigma!\nUna serata di teatro brillante\, ritmo serrato e risate assicurate! 🎉 \nBiglietti: \n\n9 € intero\n7 € ridotto over 65 \, studenti under 19 soci AVIS \,iscritti AIDO\, iscritti alle associazioni del territorio \nGratuito persone con disabilità e bambini fino ai 10 anni.\n\nInfo e prenotazioni: ☎353 4345526  – teatrotergola2008@libero.it
URL:https://uniapertavigo.it/eventi/assassinio-sulloriente-spritz-21-02-2026/
LOCATION:Teatro Quirino de Giorgio di Vigonza\, Piazza Enrico Zanella\, 29\, Vigonza\, PD\, 35010\, Italy
ATTACH;FMTTYPE=image/jpeg:https://uniapertavigo.it/wp-content/uploads/2026/02/AssassinioSullOrienteSpritz.jpeg
END:VEVENT
END:VCALENDAR