BEGIN:VCALENDAR
VERSION:2.0
PRODID:-//Università Aperta Vigontina - ECPv6.10.2//NONSGML v1.0//EN
CALSCALE:GREGORIAN
METHOD:PUBLISH
X-ORIGINAL-URL:https://uniapertavigo.it
X-WR-CALDESC:Eventi per Università Aperta Vigontina
REFRESH-INTERVAL;VALUE=DURATION:PT1H
X-Robots-Tag:noindex
X-PUBLISHED-TTL:PT1H
BEGIN:VTIMEZONE
TZID:Europe/Paris
BEGIN:DAYLIGHT
TZOFFSETFROM:+0100
TZOFFSETTO:+0200
TZNAME:CEST
DTSTART:20260329T010000
END:DAYLIGHT
BEGIN:STANDARD
TZOFFSETFROM:+0200
TZOFFSETTO:+0100
TZNAME:CET
DTSTART:20261025T010000
END:STANDARD
END:VTIMEZONE
BEGIN:VEVENT
DTSTART;TZID=Europe/Paris:20260314T204500
DTEND;TZID=Europe/Paris:20260314T230000
DTSTAMP:20260425T014151
CREATED:20260312T121245Z
LAST-MODIFIED:20260312T121403Z
UID:8848-1773521100-1773529200@uniapertavigo.it
SUMMARY:No ze vero.. ma ghe credo! (14/03/2026)
DESCRIPTION:Biglietti: \n\n9 € intero\n7 € ridotto over 65 \, studenti under 19 soci AVIS \,iscritti AIDO\, iscritti alle associazioni del territorio \nGratuito persone con disabilità e bambini fino ai 10 anni.\n\nInfo e prenotazioni: ☎353 4345526  – teatrotergola2008@libero.it
URL:https://uniapertavigo.it/eventi/no-ze-vero-ma-ghe-credo-14-03-2026/
LOCATION:Teatro Quirino de Giorgio di Vigonza\, Piazza Enrico Zanella\, 29\, Vigonza\, PD\, 35010\, Italy
ATTACH;FMTTYPE=image/jpeg:https://uniapertavigo.it/wp-content/uploads/2026/03/NoZeVeroMaGheCredo.jpeg
END:VEVENT
BEGIN:VEVENT
DTSTART;TZID=Europe/Paris:20260328T203000
DTEND;TZID=Europe/Paris:20260328T223000
DTSTAMP:20260425T014151
CREATED:20260309T091248Z
LAST-MODIFIED:20260309T091248Z
UID:8778-1774729800-1774737000@uniapertavigo.it
SUMMARY:Spezie d'amore (28/03/2026)
DESCRIPTION:
URL:https://uniapertavigo.it/eventi/spezie-damore-28-03-2026/
LOCATION:Centro parrocchiale San Sebastiano di Vigonza\, Via Roma\, 41\, Vigonza\, PD\, 35010\, Italy
ATTACH;FMTTYPE=image/png:https://uniapertavigo.it/wp-content/uploads/2026/03/SpeziedAmore.png
END:VEVENT
BEGIN:VEVENT
DTSTART;TZID=Europe/Paris:20260328T204500
DTEND;TZID=Europe/Paris:20260328T233000
DTSTAMP:20260425T014151
CREATED:20260325T154301Z
LAST-MODIFIED:20260325T154301Z
UID:8985-1774730700-1774740600@uniapertavigo.it
SUMMARY:Amleto in salsa piccante (28/03/2026)
DESCRIPTION:Biglietti: \n\n9 € intero\n7 € ridotto over 65 \, studenti under 19 soci AVIS \,iscritti AIDO\, iscritti alle associazioni del territorio \nGratuito persone con disabilità e bambini fino ai 10 anni.\n\nInfo e prenotazioni: ☎353 4345526  – teatrotergola2008@libero.it
URL:https://uniapertavigo.it/eventi/amleto-in-salsa-piccante-28-03-2026/
LOCATION:Teatro Quirino de Giorgio di Vigonza\, Piazza Enrico Zanella\, 29\, Vigonza\, PD\, 35010\, Italy
ATTACH;FMTTYPE=image/png:https://uniapertavigo.it/wp-content/uploads/2026/03/AmletoInSalsaPiccante.png
END:VEVENT
END:VCALENDAR