BEGIN:VCALENDAR
VERSION:2.0
PRODID:-//Università Aperta Vigontina - ECPv6.10.2//NONSGML v1.0//EN
CALSCALE:GREGORIAN
METHOD:PUBLISH
X-ORIGINAL-URL:https://uniapertavigo.it
X-WR-CALDESC:Eventi per Università Aperta Vigontina
REFRESH-INTERVAL;VALUE=DURATION:PT1H
X-Robots-Tag:noindex
X-PUBLISHED-TTL:PT1H
BEGIN:VTIMEZONE
TZID:Europe/Paris
BEGIN:DAYLIGHT
TZOFFSETFROM:+0100
TZOFFSETTO:+0200
TZNAME:CEST
DTSTART:20250330T010000
END:DAYLIGHT
BEGIN:STANDARD
TZOFFSETFROM:+0200
TZOFFSETTO:+0100
TZNAME:CET
DTSTART:20251026T010000
END:STANDARD
END:VTIMEZONE
BEGIN:VEVENT
DTSTART;TZID=Europe/Paris:20250329T150000
DTEND;TZID=Europe/Paris:20250329T170000
DTSTAMP:20260425T052627
CREATED:20250312T105247Z
LAST-MODIFIED:20250318T090746Z
UID:5041-1743260400-1743267600@uniapertavigo.it
SUMMARY:Visita ad un impianto di Biogas
DESCRIPTION:
URL:https://uniapertavigo.it/eventi/visita-ad-un-impianto-di-biogas/
LOCATION:Azienda Agricola Orfeo Di Codogno S.& C. Ss\, via Generale Giardino\, 1\, Vigonza\, PD\, 35010\, Italy
ATTACH;FMTTYPE=image/png:https://uniapertavigo.it/wp-content/uploads/2025/03/VisitaImpiantoBiogas.png
END:VEVENT
END:VCALENDAR