BEGIN:VCALENDAR
VERSION:2.0
PRODID:-//Università Aperta Vigontina - ECPv6.10.2//NONSGML v1.0//EN
CALSCALE:GREGORIAN
METHOD:PUBLISH
X-ORIGINAL-URL:https://uniapertavigo.it
X-WR-CALDESC:Eventi per Università Aperta Vigontina
REFRESH-INTERVAL;VALUE=DURATION:PT1H
X-Robots-Tag:noindex
X-PUBLISHED-TTL:PT1H
BEGIN:VTIMEZONE
TZID:Europe/Paris
BEGIN:DAYLIGHT
TZOFFSETFROM:+0100
TZOFFSETTO:+0200
TZNAME:CEST
DTSTART:20260329T010000
END:DAYLIGHT
BEGIN:STANDARD
TZOFFSETFROM:+0200
TZOFFSETTO:+0100
TZNAME:CET
DTSTART:20261025T010000
END:STANDARD
END:VTIMEZONE
BEGIN:VEVENT
DTSTART;TZID=Europe/Paris:20260228T204500
DTEND;TZID=Europe/Paris:20260228T230000
DTSTAMP:20260425T040459
CREATED:20260113T160331Z
LAST-MODIFIED:20260118T194419Z
UID:8152-1772311500-1772319600@uniapertavigo.it
SUMMARY:Solo l'Amore (28/02/2026)
DESCRIPTION:Giornata mondiale delle malattie rare – Serata di beneficenza a sostegno della ricerca sulle malattie rare
URL:https://uniapertavigo.it/eventi/solo-lamore-28-02-2026/
LOCATION:Teatro Quirino de Giorgio di Vigonza\, Piazza Enrico Zanella\, 29\, Vigonza\, PD\, 35010\, Italy
ATTACH;FMTTYPE=image/png:https://uniapertavigo.it/wp-content/uploads/2026/01/SoloLAmore.png
END:VEVENT
END:VCALENDAR