BEGIN:VCALENDAR
VERSION:2.0
PRODID:-//Università Aperta Vigontina - ECPv6.10.2//NONSGML v1.0//EN
CALSCALE:GREGORIAN
METHOD:PUBLISH
X-ORIGINAL-URL:https://uniapertavigo.it
X-WR-CALDESC:Eventi per Università Aperta Vigontina
REFRESH-INTERVAL;VALUE=DURATION:PT1H
X-Robots-Tag:noindex
X-PUBLISHED-TTL:PT1H
BEGIN:VTIMEZONE
TZID:Europe/Paris
BEGIN:DAYLIGHT
TZOFFSETFROM:+0100
TZOFFSETTO:+0200
TZNAME:CEST
DTSTART:20250330T010000
END:DAYLIGHT
BEGIN:STANDARD
TZOFFSETFROM:+0200
TZOFFSETTO:+0100
TZNAME:CET
DTSTART:20251026T010000
END:STANDARD
BEGIN:DAYLIGHT
TZOFFSETFROM:+0100
TZOFFSETTO:+0200
TZNAME:CEST
DTSTART:20260329T010000
END:DAYLIGHT
BEGIN:STANDARD
TZOFFSETFROM:+0200
TZOFFSETTO:+0100
TZNAME:CET
DTSTART:20261025T010000
END:STANDARD
END:VTIMEZONE
BEGIN:VEVENT
DTSTART;TZID=Europe/Paris:20260228T204500
DTEND;TZID=Europe/Paris:20260228T230000
DTSTAMP:20260425T002607
CREATED:20260113T160331Z
LAST-MODIFIED:20260118T194419Z
UID:8152-1772311500-1772319600@uniapertavigo.it
SUMMARY:Solo l'Amore (28/02/2026)
DESCRIPTION:Giornata mondiale delle malattie rare – Serata di beneficenza a sostegno della ricerca sulle malattie rare
URL:https://uniapertavigo.it/eventi/solo-lamore-28-02-2026/
LOCATION:Teatro Quirino de Giorgio di Vigonza\, Piazza Enrico Zanella\, 29\, Vigonza\, PD\, 35010\, Italy
ATTACH;FMTTYPE=image/png:https://uniapertavigo.it/wp-content/uploads/2026/01/SoloLAmore.png
END:VEVENT
BEGIN:VEVENT
DTSTART;TZID=Europe/Paris:20260117T204500
DTEND;TZID=Europe/Paris:20260117T230000
DTSTAMP:20260425T002607
CREATED:20260105T103102Z
LAST-MODIFIED:20260113T155538Z
UID:7937-1768682700-1768690800@uniapertavigo.it
SUMMARY:Recita di Natale con Sorpresa (17/01/2026)
DESCRIPTION:Sabato 17 gennaio al Teatro Quirino De Giorgio di Vigonza va in scena “Recita di Natale… con sorpresa!”\, una commedia teatrale organizzata da Angolo del Pensiero e Amici di Lucignolo che parla di ricordi\, infanzia e spirito natalizio\nUno spettacolo emozionante adatto a tutta la famiglia\, tra sorrisi\, nostalgia e una sorpresa finale che scalda il cuore ✨\nIngresso libero con contributo volontario minimo. L’incasso sarà devoluto all’Associazione EFFETA’ Betlemme\, Istituto Paolo VI per la rieducazione audiofonetica di bambini.\nUn’occasione per ritrovarsi\, sostenere una bella iniziativa e vivere una serata di teatro nel nostro territorio ❤️\nInfo e prenotazioni: angolodelpensiero@gmail.com – cell. 347.8695678\nLink per accedere alla prenotazione:\nhttps://www.eventbrite.it/e/recita-di-natale-con-sorpresa-tickets-1977185508079?aff=oddtdtcreator
URL:https://uniapertavigo.it/eventi/recita-di-natale-con-sorpresa-17-01-2026/
LOCATION:Teatro Quirino de Giorgio di Vigonza\, Piazza Enrico Zanella\, 29\, Vigonza\, PD\, 35010\, Italy
ATTACH;FMTTYPE=image/jpeg:https://uniapertavigo.it/wp-content/uploads/2026/01/Recita-di-Natale.jpeg
END:VEVENT
BEGIN:VEVENT
DTSTART;TZID=Europe/Paris:20260117T100000
DTEND;TZID=Europe/Paris:20260117T120000
DTSTAMP:20260425T002607
CREATED:20251219T192954Z
LAST-MODIFIED:20251219T200251Z
UID:7908-1768644000-1768651200@uniapertavigo.it
SUMMARY:Visita alle cucine popolari di Padova (17/12/2026)
DESCRIPTION:
URL:https://uniapertavigo.it/eventi/visita-alle-cucine-popolari-di-padova-17-12-2026/
LOCATION:Cucine Economiche Popolari di Padova\, Via Niccolò Tommaseo\, 12\, Padova\, PD\, 35131\, Italy
ATTACH;FMTTYPE=image/png:https://uniapertavigo.it/wp-content/uploads/2025/12/CucinePopolariPadova_A4a.png
END:VEVENT
BEGIN:VEVENT
DTSTART;TZID=Europe/Paris:20251129T210000
DTEND;TZID=Europe/Paris:20251129T230000
DTSTAMP:20260425T002607
CREATED:20251111T202958Z
LAST-MODIFIED:20251111T202958Z
UID:7532-1764450000-1764457200@uniapertavigo.it
SUMMARY:Sei ore ancora (29/11/2025)
DESCRIPTION:
URL:https://uniapertavigo.it/eventi/sei-ore-ancora-29-11-2025/
LOCATION:Teatro Quirino de Giorgio di Vigonza\, Piazza Enrico Zanella\, 29\, Vigonza\, PD\, 35010\, Italy
ATTACH;FMTTYPE=image/png:https://uniapertavigo.it/wp-content/uploads/2025/11/SeiOreAncora.png
END:VEVENT
BEGIN:VEVENT
DTSTART;TZID=Europe/Paris:20251129T204500
DTEND;TZID=Europe/Paris:20251129T230000
DTSTAMP:20260425T002607
CREATED:20251105T124952Z
LAST-MODIFIED:20251105T125321Z
UID:7378-1764449100-1764457200@uniapertavigo.it
SUMMARY:Voci per Gaza (29/11/2025)
DESCRIPTION:Ingresso libero con contributo responsabile a favore di “Padova Abbraccia i Bambini OdV ( Organizzazione di Volontariato)”
URL:https://uniapertavigo.it/eventi/voci-per-gaza-29-11-2025/
LOCATION:Centro parrocchiale San Sebastiano di Vigonza\, Via Roma\, 41\, Vigonza\, PD\, 35010\, Italy
ATTACH;FMTTYPE=image/png:https://uniapertavigo.it/wp-content/uploads/2025/11/VociPer-Gaza.png
END:VEVENT
END:VCALENDAR